BEGIN:VCALENDAR
VERSION:2.0
PRODID:-//wp-events-plugin.com//7.2.3.1//EN
TZID:America/Los_Angeles
X-WR-TIMEZONE:America/Los_Angeles
BEGIN:VEVENT
UID:351@bfuu.org
DTSTART;TZID=America/Los_Angeles:20250406T123000
DTEND;TZID=America/Los_Angeles:20250406T133000
DTSTAMP:20250304T190539Z
URL:https://bfuu.org/events/1st-sundays-writing-group-2025-04-06
SUMMARY:1st Sundays Writing Group
DESCRIPTION:BFUU is sponsoring this free writing group open to word lovers 
 from all levels of experience. Bring pen and paper for writing or a piece 
 that you would like to receive supportive feedback on.\n\n&nbsp\;\n\nMeets
  on the 1st Sunday of the month after the service in the Fellowship Hall L
 obby
END:VEVENT
BEGIN:VTIMEZONE
TZID:America/Los_Angeles
X-LIC-LOCATION:America/Los_Angeles
BEGIN:DAYLIGHT
DTSTART:20250309T030000
TZOFFSETFROM:-0800
TZOFFSETTO:-0700
TZNAME:PDT
END:DAYLIGHT
END:VTIMEZONE
END:VCALENDAR