BEGIN:VCALENDAR
VERSION:2.0
PRODID:-//wp-events-plugin.com//7.2.3.1//EN
TZID:America/Los_Angeles
X-WR-TIMEZONE:America/Los_Angeles
BEGIN:VEVENT
UID:489@bfuu.org
DTSTART;TZID=America/Los_Angeles:20251115T110000
DTEND;TZID=America/Los_Angeles:20251115T150000
DTSTAMP:20251029T214543Z
URL:https://bfuu.org/events/antiwar-coalition-teach-in
SUMMARY:Antiwar Coalition Teach-In
DESCRIPTION:UNITED NATIONAL ANTIWAR COALITION  \n\n\n\nTeach-In - Educatio
 nal Conference\n\nFree Palestine!    No To Ice Raids!  Hands off Venezu
 ela!\n\nSaturday. November 15\, 2025 - 11am - 3 pm\n\nBerkeley Fellowship 
 of Unitarian Universalists Church \n\n1924 Cedar Street at Bonita\, Berke
 ley\, CA.\n\nSpeakers include:\n\nTop line: Pierre La Bossiere\, Chair.\, 
 Haiti Action Comm.\, Judith Mirkinson\, Bay Area National Lawyers Guild\, 
 Rick Sterling\, Mt. Diable Peace &amp\; Justice Cntr\,  Paul Cox\, Nat. P
 res. Vets For Peace\, Jeff Mackler\, UNAC Admin. Comm. • Kevin Cooper\,
  Innocent death row political prisoner • Jack Fleck\, International Co
 mm.\, 350.org\, \n\nBottom line: Dr. Monadel Herzallah\, US Palestine Co
 mmunity Network\, Nora Barrows-Friedman\, Associate Editor Electronic Inti
 fada • Phoebe Thomas Sorgen\, Berkeley Fellowship of Unitarian Universal
 ists Social Justice Comm • Pam Africa\, International Concerned Family a
 nd Friends of  Mumia Abu-Jamal • Mumia Abu-Jamal\, journalist\, innoce
 nt political prisoner  via Video •  Judy Greenspan\, Bay Area Labor fo
 r Palestine • Dr. Jack Rasmus\, former VP\, Na'tl. Writers Union &amp\;
  author\, Twilight of American Imperialism\n\n Other speakers: John Park
 er\, Harriet Tobman Cn'tr for Social Justice • Rep.\, BAYAN USA • Dr. 
 Ricardo Alvarez\, Mumia Abu-Jamal’s doctor • Tom Lacey\, Peace and Fre
 edom Party • Rep\, Green Party of Alameda County • Joe Lombardo\, Nati
 onal Coordinator\, UNAC\, • Pippa Bartolotti\, Global Women for Peace Un
 ited Against NATO.\n\nSponsor: United National Antiwar Coalition (UNAC) 
 • Co-sponsor: Berkeley Fellowship of Unitarian Universalists\nInitial E
 ndorsers: 350.org International Committee • Task Force on the America
 s • Haiti Action Committee • Green Party of Alameda County • Peace a
 nd Freedom Party • Socialist Action • Social Justice Committee\, BFUU 
 • Paul George\, Dir.\, Peninsula Peace &amp\; Justice Center • Dennis 
 Bernstein\, Host\, KPFA’s Flashpoints • Cynthia Papermaster\, CodePink
  • Anthony Fest\, KPFA volunteer • Struggle for Socialism Party\, LA 
 • Mobilization to Free Mumia Northern CA • Veterans For Peace • Harr
 iet Tubman Center for Social Justice\, LA •  Glenn Turner\, CopWatch 
 • Cody Urban\, ILPS • Bay Area Labor for Palestine •\, BAYAN USA\n\n
 Contact: Jeff Mackler jmackler@lmi.net  [Literature tables available\, 
 $25 Checks/donations  payable to UNAC]\n\n\n
ATTACH;FMTTYPE=image/jpeg:https://bfuu.org/wp-content/uploads/2025/10/berk
 eleymtg.jpg
END:VEVENT
BEGIN:VTIMEZONE
TZID:America/Los_Angeles
X-LIC-LOCATION:America/Los_Angeles
BEGIN:STANDARD
DTSTART:20251102T010000
TZOFFSETFROM:-0700
TZOFFSETTO:-0800
TZNAME:PST
END:STANDARD
END:VTIMEZONE
END:VCALENDAR