BEGIN:VCALENDAR
VERSION:2.0
PRODID:-//wp-events-plugin.com//7.2.3.1//EN
TZID:America/Los_Angeles
X-WR-TIMEZONE:America/Los_Angeles
BEGIN:VEVENT
UID:344@bfuu.org
DTSTART;TZID=America/Los_Angeles:20250216T170000
DTEND;TZID=America/Los_Angeles:20250216T183000
DTSTAMP:20250210T222510Z
URL:https://bfuu.org/events/hamze-awawde-talk-and-live-music
SUMMARY:Hamze Awawde talk and live music
DESCRIPTION:The Social Justice Committee is co-sponsoring this event with J
 ewish Voice for Peace (JVP) to bring Palestinian peace activist Hamze Awaw
 de to speak at BFUU. Hamze is an internationally recognized peace strategi
 st and activist and just founded the Center for Palestinian Renewal.
ATTACH;FMTTYPE=image/jpeg:https://bfuu.org/wp-content/uploads/2025/02/Berk
 eley_social_post_final.Feb16.png
END:VEVENT
BEGIN:VTIMEZONE
TZID:America/Los_Angeles
X-LIC-LOCATION:America/Los_Angeles
BEGIN:STANDARD
DTSTART:20241103T010000
TZOFFSETFROM:-0700
TZOFFSETTO:-0800
TZNAME:PST
END:STANDARD
END:VTIMEZONE
END:VCALENDAR